BEGIN:VCALENDAR
VERSION:2.0
PRODID:-//Miejski Dom Kultury W Witnicy - ECPv6.15.17.1//NONSGML v1.0//EN
CALSCALE:GREGORIAN
METHOD:PUBLISH
X-ORIGINAL-URL:https://mdk.witnica.pl
X-WR-CALDESC:Wydarzenia dla Miejski Dom Kultury W Witnicy
REFRESH-INTERVAL;VALUE=DURATION:PT1H
X-Robots-Tag:noindex
X-PUBLISHED-TTL:PT1H
BEGIN:VTIMEZONE
TZID:Europe/Warsaw
BEGIN:DAYLIGHT
TZOFFSETFROM:+0100
TZOFFSETTO:+0200
TZNAME:CEST
DTSTART:20250330T010000
END:DAYLIGHT
BEGIN:STANDARD
TZOFFSETFROM:+0200
TZOFFSETTO:+0100
TZNAME:CET
DTSTART:20251026T010000
END:STANDARD
BEGIN:DAYLIGHT
TZOFFSETFROM:+0100
TZOFFSETTO:+0200
TZNAME:CEST
DTSTART:20260329T010000
END:DAYLIGHT
BEGIN:STANDARD
TZOFFSETFROM:+0200
TZOFFSETTO:+0100
TZNAME:CET
DTSTART:20261025T010000
END:STANDARD
BEGIN:DAYLIGHT
TZOFFSETFROM:+0100
TZOFFSETTO:+0200
TZNAME:CEST
DTSTART:20270328T010000
END:DAYLIGHT
BEGIN:STANDARD
TZOFFSETFROM:+0200
TZOFFSETTO:+0100
TZNAME:CET
DTSTART:20271031T010000
END:STANDARD
END:VTIMEZONE
BEGIN:VEVENT
DTSTART;TZID=Europe/Warsaw:20260425T170000
DTEND;TZID=Europe/Warsaw:20260425T180000
DTSTAMP:20260420T032104
CREATED:20260409T125249Z
LAST-MODIFIED:20260409T130518Z
UID:100913-1777136400-1777140000@mdk.witnica.pl
SUMMARY:"Opowiadania Pana M." - spektakl grupy teatralnej Witnicka Kurtyna
DESCRIPTION:Premiera spektaklu grupy teatralnej „Witnicka Kurtyna”! \nZ wielką radością zapraszamy wszystkich – zarówno młodszych\, jak i starszych widzów – na premierowy spektakl grupy teatralnej „Witnicka Kurtyna”\, która od zeszłego roku działa przy Miejskim Domu kultury w Witnicy. To będzie wyjątkowe wydarzenie kulturalne. Spektakl składa się z krótkich  satyrycznych opowiadań Pana M.\, w których w sposób absurdalny obnażany jest fałsz ambicji\, brak samoakceptacji\, samokrytyki i manipulacji. Groteska ukazana w kontaktach międzyludzkich odsłania niedojrzałość otaczającego świata pozbawionego logicznego sensu. Pięciu młodych aktorów prezentuje to wszystko w sposób lekki\, zabawny i pełen humoru. A wszystko to w reżyserii Konrada Stali. To doskonała okazja\, by wesprzeć lokalne talenty i spędzić czas w inspirującej atmosferze teatru. Nie przegapcie tej premiery! \nPrzyjdźcie i przekonajcie się sami\, jak wygląda świat widziany oczami młodych artystów. Serdecznie zapraszamy!
URL:https://mdk.witnica.pl/event/opowiadania-pana-m-spektakl-grupy-teatralnej-witnicka-kurtyna/
LOCATION:Miejski Dom Kultury w Witnicy\, Gorzowska 22\, Witnica\, Woj. Lubuskie\, 66-460\, Poland
ATTACH;FMTTYPE=image/jpeg:https://mdk.witnica.pl/wp-content/uploads/2026/04/slider-wersja-na-telefon1.jpg
END:VEVENT
END:VCALENDAR