BEGIN:VCALENDAR
VERSION:2.0
PRODID:-//Miejski Dom Kultury W Witnicy - ECPv6.15.17.1//NONSGML v1.0//EN
CALSCALE:GREGORIAN
METHOD:PUBLISH
X-WR-CALNAME:Miejski Dom Kultury W Witnicy
X-ORIGINAL-URL:https://mdk.witnica.pl
X-WR-CALDESC:Wydarzenia dla Miejski Dom Kultury W Witnicy
REFRESH-INTERVAL;VALUE=DURATION:PT1H
X-Robots-Tag:noindex
X-PUBLISHED-TTL:PT1H
BEGIN:VTIMEZONE
TZID:Europe/Warsaw
BEGIN:DAYLIGHT
TZOFFSETFROM:+0100
TZOFFSETTO:+0200
TZNAME:CEST
DTSTART:20250330T010000
END:DAYLIGHT
BEGIN:STANDARD
TZOFFSETFROM:+0200
TZOFFSETTO:+0100
TZNAME:CET
DTSTART:20251026T010000
END:STANDARD
BEGIN:DAYLIGHT
TZOFFSETFROM:+0100
TZOFFSETTO:+0200
TZNAME:CEST
DTSTART:20260329T010000
END:DAYLIGHT
BEGIN:STANDARD
TZOFFSETFROM:+0200
TZOFFSETTO:+0100
TZNAME:CET
DTSTART:20261025T010000
END:STANDARD
BEGIN:DAYLIGHT
TZOFFSETFROM:+0100
TZOFFSETTO:+0200
TZNAME:CEST
DTSTART:20270328T010000
END:DAYLIGHT
BEGIN:STANDARD
TZOFFSETFROM:+0200
TZOFFSETTO:+0100
TZNAME:CET
DTSTART:20271031T010000
END:STANDARD
END:VTIMEZONE
BEGIN:VEVENT
DTSTART;TZID=Europe/Warsaw:20260327T170000
DTEND;TZID=Europe/Warsaw:20260327T190000
DTSTAMP:20260420T082822
CREATED:20260316T102506Z
LAST-MODIFIED:20260318T120032Z
UID:100767-1774630800-1774638000@mdk.witnica.pl
SUMMARY:Turniej gry w tysiąca - rozdanie V
DESCRIPTION:Już 27 marca odbędzie się V tura rozgrywek w grze w Tysiąca  o Puchar Burmistrza Miasta i Gminy Witnica \n\n\nPrzed nami kolejna dawka sportowej rywalizacji\, wielkich emocji\, strategicznych zagrań i zaciętej walki przy stolikach. Każda partia może przesądzić o awansie\, dlatego emocje sięgną zenitu!\n\n\n Zapraszamy wszystkich zawodników oraz kibiców do wspólnego kibicowania i przeżywania tych wyjątkowych chwil!
URL:https://mdk.witnica.pl/event/turniej-gry-w-tysiaca-rozdanie-v/
LOCATION:Miejski Dom Kultury w Witnicy\, Gorzowska 22\, Witnica\, Woj. Lubuskie\, 66-460\, Poland
ATTACH;FMTTYPE=image/jpeg:https://mdk.witnica.pl/wp-content/uploads/2026/03/turniej-tysiaca.jpg
END:VEVENT
END:VCALENDAR