BEGIN:VCALENDAR
VERSION:2.0
PRODID:-//Miejski Dom Kultury W Witnicy - ECPv6.15.17.1//NONSGML v1.0//EN
CALSCALE:GREGORIAN
METHOD:PUBLISH
X-WR-CALNAME:Miejski Dom Kultury W Witnicy
X-ORIGINAL-URL:https://mdk.witnica.pl
X-WR-CALDESC:Wydarzenia dla Miejski Dom Kultury W Witnicy
REFRESH-INTERVAL;VALUE=DURATION:PT1H
X-Robots-Tag:noindex
X-PUBLISHED-TTL:PT1H
BEGIN:VTIMEZONE
TZID:Europe/Warsaw
BEGIN:DAYLIGHT
TZOFFSETFROM:+0100
TZOFFSETTO:+0200
TZNAME:CEST
DTSTART:20250330T010000
END:DAYLIGHT
BEGIN:STANDARD
TZOFFSETFROM:+0200
TZOFFSETTO:+0100
TZNAME:CET
DTSTART:20251026T010000
END:STANDARD
BEGIN:DAYLIGHT
TZOFFSETFROM:+0100
TZOFFSETTO:+0200
TZNAME:CEST
DTSTART:20260329T010000
END:DAYLIGHT
BEGIN:STANDARD
TZOFFSETFROM:+0200
TZOFFSETTO:+0100
TZNAME:CET
DTSTART:20261025T010000
END:STANDARD
BEGIN:DAYLIGHT
TZOFFSETFROM:+0100
TZOFFSETTO:+0200
TZNAME:CEST
DTSTART:20270328T010000
END:DAYLIGHT
BEGIN:STANDARD
TZOFFSETFROM:+0200
TZOFFSETTO:+0100
TZNAME:CET
DTSTART:20271031T010000
END:STANDARD
END:VTIMEZONE
BEGIN:VEVENT
DTSTART;TZID=Europe/Warsaw:20260310T170000
DTEND;TZID=Europe/Warsaw:20260310T180000
DTSTAMP:20260420T080139
CREATED:20260226T155921Z
LAST-MODIFIED:20260226T160548Z
UID:100420-1773162000-1773165600@mdk.witnica.pl
SUMMARY:Spotkanie ze znanym przyrodnikiem Adamem Zbyrytem
DESCRIPTION:Spotkanie ze znanym przyrodnikiem Adamem Zbyrytem w Witnicy. \n10 marca 2026 roku w Miejskim Domu Kultury w Witnicy odbędzie się spotkanie ze znanym przyrodnikiem i popularyzatorem nauki Adamem Zbyrytem – Człowiekiem z puszczy.  \nAdam Zbyryt\, to wielokrotnie nagradzany autor książek przyrodniczych i artykułów naukowych. Laureat nagród: „Złota Róża”\, „Mądra Książka” w 2024 r. i „Popularyzator Nauki” w 2021 r. Laureat Medalu im. Wiktora Godlewskiego za działania na rzecz przyrody w 2025 r. \nRazem z redaktorem Marcinem Cichońskim\, na antenie Radia 357\, prowadzi cykl „Dwóch ludzi z puszczy” oraz podcast „Z Dobrą Energią w las”. Występuje w serialu telewizyjnym „Podglądacze przyrody”. Był prelegentem prestiżowego TEDx-u i wielu innych wydarzeń popularnonaukowych. Współpracuje z magazynem „Przekrój”\, gdzie publikuje teksty na tematy przyrodnicze. Od 2022 roku ambasador Fundacji PVE Dobra Energia\, z którą prowadzi projekty edukacyjne. \nJego wystąpienia łączą rzetelną wiedzę  przyrodniczą z przystępną formą i pełne są pasjonujących opowieści\, które zachwycają słuchaczy w każdym wieku. \nTo spotkanie dla wszystkich\, którzy chcą spojrzeć na otaczający nas świat z większą uważnością i zachwytem. Będzie inspirująco\, momentami zaskakująco i z pewnością bardzo ciekawie. Nie zabraknie również czasu na pytania od uczestników. \nWydarzenie odbędzie się 10.03.2026 r. o godz. 17:00 w Miejskim Domu Kultury w Witnicy.\nWstęp bezpłatny. \nOrganizatorami wydarzenia są Fundacja PVE Dobra Energia oraz Miejski Dom Kultury w Witnicy. \nSpotkanie w Miejskim Domu Kultury stanowi  jeden z elementów całorocznego programu działań edukacyjnych\, który realizowany będzie na terenie Gminy Witnica i gmin sąsiednich przez Fundację PVE Dobra Energia. \nFundatorem działań jest Grupa PVE.
URL:https://mdk.witnica.pl/event/100420/
LOCATION:powiat gorzowski
ATTACH;FMTTYPE=image/png:https://mdk.witnica.pl/wp-content/uploads/2026/02/Adam-Zbyryt-Witnica_-Facebook.png
END:VEVENT
END:VCALENDAR